BEGIN:VCALENDAR
VERSION:2.0
CALSCALE:GREGORIAN
METHOD:PUBLISH
PRODID://A1PC//229390
BEGIN:VEVENT
DTSTAMP:20260421T045525
VTIMEZONE:America/New_York
DTSTART:20320223T050000Z
DTEND:20320223T051500Z
UID:229390
SUMMARY:Vero qui sint sequi
LOCATION:
DESCRIPTION:Vero qui sint sequi\n\n02/23/32 12:00 AM EST\n - 02/23/32 12:15 AM EST\Description:\nAnimi id vero quibusdam facere? Tenetur asperiores consequuntur dolor enim unde, quibusdam magni earum libero quod consequatur veniam a suscipit alias dolore ipsum soluta aut labore placeat culpa sint minus.
X-ALT-DESC;FMTTYPE=text/html:Vero qui sint sequi<br /><br />02/23/32 12:00 AM EST - 02/23/32 12:15 AM EST<br />Description:<br />Animi id vero quibusdam facere? Tenetur asperiores consequuntur dolor enim unde, quibusdam magni earum libero quod consequatur veniam a suscipit alias dolore ipsum soluta aut labore placeat culpa sint minus.
PRIORITY:3
TRANSP:TRANSPARENT
BEGIN:VALARM
TRIGGER:-PT5M
ACTION:DISPLAY
DESCRIPTION:Reminder
END:VALARM
END:VEVENT
END:VCALENDAR
