BEGIN:VCALENDAR
VERSION:2.0
CALSCALE:GREGORIAN
METHOD:PUBLISH
PRODID://A1AS//323463
BEGIN:VEVENT
DTSTAMP:20260422T045256
VTIMEZONE:America/New_York
DTSTART:20320812T040000Z
DTEND:20320812T041500Z
UID:323463
SUMMARY:Assumenda Temporibus Officia Vel Ipsa Dolorem Quam Eveniet Ut Explicabo Saepe Dolorum
LOCATION:
DESCRIPTION:Assumenda Temporibus Officia Vel Ipsa Dolorem Quam Eveniet Ut Explicabo Saepe Dolorum\n\n08/12/32 12:00 AM EST\n - 08/12/32 12:15 AM EST\Description:\nAl feugiat nulla facili at vero eros et accumsan et iusto odio dignissim qui blandit praesent luptatum zzril delenit augue duis dolore te feugait nulli. Ullam corper nec eros eget, imperdiet bibendum ex. Donec dapibus, dui vel blandit semper, lorem mauris venenatis libero, vel vulputate ipsum erat id enim.
X-ALT-DESC;FMTTYPE=text/html:Assumenda Temporibus Officia Vel Ipsa Dolorem Quam Eveniet Ut Explicabo Saepe Dolorum<br /><br />08/12/32 12:00 AM EST - 08/12/32 12:15 AM EST<br />Description:<br />Al feugiat nulla facili at vero eros et accumsan et iusto odio dignissim qui blandit praesent luptatum zzril delenit augue duis dolore te feugait nulli. Ullam corper nec eros eget, imperdiet bibendum ex. Donec dapibus, dui vel blandit semper, lorem mauris venenatis libero, vel vulputate ipsum erat id enim.
PRIORITY:3
TRANSP:TRANSPARENT
BEGIN:VALARM
TRIGGER:-PT5M
ACTION:DISPLAY
DESCRIPTION:Reminder
END:VALARM
END:VEVENT
END:VCALENDAR
