BEGIN:VCALENDAR
VERSION:2.0
CALSCALE:GREGORIAN
METHOD:PUBLISH
PRODID://A1ET//353408
BEGIN:VEVENT
DTSTAMP:20260421T063446
VTIMEZONE:America/New_York
DTSTART:20340502T230000Z
DTEND:20340503T020000Z
UID:353408
SUMMARY:Music and Dancing
LOCATION:Grand Ballroom
DESCRIPTION:Music and Dancing\n\n05/02/34 07:00 PM EST\n - 05/02/34 10:00 PM EST\Location:\nGrand Ballroom\n\n,
X-ALT-DESC;FMTTYPE=text/html:Music and Dancing<br /><br />05/02/34 07:00 PM EST - 05/02/34 10:00 PM EST<br />Location:<br />Grand Ballroom<br /><br />,  
PRIORITY:3
TRANSP:TRANSPARENT
BEGIN:VALARM
TRIGGER:-PT5M
ACTION:DISPLAY
DESCRIPTION:Reminder
END:VALARM
END:VEVENT
END:VCALENDAR
