BEGIN:VCALENDAR
VERSION:2.0
CALSCALE:GREGORIAN
METHOD:PUBLISH
PRODID://A1CB//356330
BEGIN:VEVENT
DTSTAMP:20260419T184818
VTIMEZONE:America/New_York
DTSTART:20320225T050000Z
DTEND:20320225T051500Z
UID:356330
SUMMARY:Vinn Soluta ex eligendi
LOCATION:
DESCRIPTION:Vinn Soluta ex eligendi\n\n02/25/32 12:00 AM EST\n - 02/25/32 12:15 AM EST\Description:\nIveniam corporis et dolor cumque assumenda nam qui vitae obcaecati autem numquam maiores nihil odit natus. Pariatur.
X-ALT-DESC;FMTTYPE=text/html:Vinn Soluta ex eligendi<br /><br />02/25/32 12:00 AM EST - 02/25/32 12:15 AM EST<br />Description:<br />Iveniam corporis et dolor cumque assumenda nam qui vitae obcaecati autem numquam maiores nihil odit natus. Pariatur.
PRIORITY:3
TRANSP:TRANSPARENT
BEGIN:VALARM
TRIGGER:-PT5M
ACTION:DISPLAY
DESCRIPTION:Reminder
END:VALARM
END:VEVENT
END:VCALENDAR
