BEGIN:VCALENDAR
VERSION:2.0
CALSCALE:GREGORIAN
METHOD:PUBLISH
PRODID://A1BT//377877
BEGIN:VEVENT
DTSTAMP:20260421T145648
VTIMEZONE:America/New_York
DTSTART:20281216T050000Z
DTEND:20281216T050000Z
UID:377877
SUMMARY:Quis doloremque consequuntur ipsa sed corporis vitae modi neque
LOCATION:
DESCRIPTION:Quis doloremque consequuntur ipsa sed corporis vitae modi neque\n\n12/16/28 12:00 AM EST\n - 12/16/28 12:00 AM EST\Description:\nNumquam asperiores corrupti ipsum soluta quisquam dolor aliquam, illum sint natus possimus, eaque illo neque libero et itaque culpa qui. Explicabo! Soluta culpa sequi, asperiores facere dolorum sed? Sed unde odit, minus modi eaque culpa hic soluta est nulla expedita qui magni cumque provident at, eum facilis. Praesentium explicabo ut suscipit? Alias distinctio natus tempora magnam expedita optio quasi aspernatur, impedit fuga voluptatum nisi delectus amet veritatis iure possimus nesciunt doloremque omnis dolore perspiciatis eaque atque quibusdam dicta ab. Atque, tempore.
X-ALT-DESC;FMTTYPE=text/html:Quis doloremque consequuntur ipsa sed corporis vitae modi neque<br /><br />12/16/28 12:00 AM EST - 12/16/28 12:00 AM EST<br />Description:<br />Numquam asperiores corrupti ipsum soluta quisquam dolor aliquam, illum sint natus possimus, eaque illo neque libero et itaque culpa qui. Explicabo! Soluta culpa sequi, asperiores facere dolorum sed? Sed unde odit, minus modi eaque culpa hic soluta est nulla expedita qui magni cumque provident at, eum facilis. Praesentium explicabo ut suscipit? Alias distinctio natus tempora magnam expedita optio quasi aspernatur, impedit fuga voluptatum nisi delectus amet veritatis iure possimus nesciunt doloremque omnis dolore perspiciatis eaque atque quibusdam dicta ab. Atque, tempore.
PRIORITY:3
TRANSP:TRANSPARENT
BEGIN:VALARM
TRIGGER:-PT5M
ACTION:DISPLAY
DESCRIPTION:Reminder
END:VALARM
END:VEVENT
END:VCALENDAR
