BEGIN:VCALENDAR
VERSION:2.0
CALSCALE:GREGORIAN
METHOD:PUBLISH
PRODID://A1BT//377879
BEGIN:VEVENT
DTSTAMP:20260422T113510
VTIMEZONE:America/New_York
DTSTART:20291211T050000Z
DTEND:20291211T051500Z
UID:377879
SUMMARY:Yeos inventore dolore nam
LOCATION:
DESCRIPTION:Yeos inventore dolore nam\n\n12/11/29 12:00 AM EST\n - 12/11/29 12:15 AM EST\Description:\nImaiores nostrum dolor laboriosam aut magnam totam ea repudiandae mollitia eaque nobis. Nam unde aspernatur vero ducimus in quae alias doloremque vel beatae facere!
X-ALT-DESC;FMTTYPE=text/html:Yeos inventore dolore nam<br /><br />12/11/29 12:00 AM EST - 12/11/29 12:15 AM EST<br />Description:<br />Imaiores nostrum dolor laboriosam aut magnam totam ea repudiandae mollitia eaque nobis. Nam unde aspernatur vero ducimus in quae alias doloremque vel beatae facere!
PRIORITY:3
TRANSP:TRANSPARENT
BEGIN:VALARM
TRIGGER:-PT5M
ACTION:DISPLAY
DESCRIPTION:Reminder
END:VALARM
END:VEVENT
END:VCALENDAR
