BEGIN:VCALENDAR
VERSION:2.0
CALSCALE:GREGORIAN
METHOD:PUBLISH
PRODID://A1BT//377880
BEGIN:VEVENT
DTSTAMP:20260421T073926
VTIMEZONE:America/New_York
DTSTART:20281018T040000Z
DTEND:20281018T041500Z
UID:377880
SUMMARY:Perspiciatis exercitationem id culpa
LOCATION:
DESCRIPTION:Perspiciatis exercitationem id culpa\n\n10/18/28 12:00 AM EST\n - 10/18/28 12:15 AM EST\Description:\nAcumque optio tenetur odio magni unde, maxime fuga necessitatibus, omnis placeat incidunt, delectus minima labore magnam saepe cum excepturi quae? Sapiente voluptate possimus voluptas ducimus.
X-ALT-DESC;FMTTYPE=text/html:Perspiciatis exercitationem id culpa<br /><br />10/18/28 12:00 AM EST - 10/18/28 12:15 AM EST<br />Description:<br />Acumque optio tenetur odio magni unde, maxime fuga necessitatibus, omnis placeat incidunt, delectus minima labore magnam saepe cum excepturi quae? Sapiente voluptate possimus voluptas ducimus.
PRIORITY:3
TRANSP:TRANSPARENT
BEGIN:VALARM
TRIGGER:-PT5M
ACTION:DISPLAY
DESCRIPTION:Reminder
END:VALARM
END:VEVENT
END:VCALENDAR
