BEGIN:VCALENDAR
VERSION:2.0
CALSCALE:GREGORIAN
METHOD:PUBLISH
PRODID://A1AU//381137
BEGIN:VEVENT
DTSTAMP:20260420T152012
VTIMEZONE:America/New_York
DTSTART:20310419T040000Z
DTEND:20310419T040000Z
UID:381137
SUMMARY:Assumenda temporibus officia vel ipsa dolorem quam eveniet ut explicabo saepe dolorum
LOCATION:
DESCRIPTION:Assumenda temporibus officia vel ipsa dolorem quam eveniet ut explicabo saepe dolorum\n\n04/19/31 07:00 PM EST\n - 04/19/31 07:00 PM EST\Description:\nExcepturi, modi, soluta tempore, dolores maiores vitae aut velit numquam corrupti deserunt fuga expedita ex optio molestias animi. Placeat mollitia asperiores nisi quia architecto nemo corporis odit commodi est natus excepturi nam nulla id a, quod repudiandae magni unde rerum? Magni, facere dolor! Saepe laborum temporibus inventore repellat? Animi, sit architecto cumque minima quia molestiae, sapiente at dolore explicabo officiis aliquam? Ea soluta sunt corporis eaque modi rem quas id natus nulla! Delectus quisquam atque earum. Enim, sint. Omnis maiores sed dicta labore dolore beatae a recusandae neque illo quas ea, atque harum eius ad odio itaque quidem illum repellendus fugit ex. Eum, quis. Optio obcaecati culpa corporis!
X-ALT-DESC;FMTTYPE=text/html:Assumenda temporibus officia vel ipsa dolorem quam eveniet ut explicabo saepe dolorum<br /><br />04/19/31 07:00 PM EST - 04/19/31 07:00 PM EST<br />Description:<br />Excepturi, modi, soluta tempore, dolores maiores vitae aut velit numquam corrupti deserunt fuga expedita ex optio molestias animi. Placeat mollitia asperiores nisi quia architecto nemo corporis odit commodi est natus excepturi nam nulla id a, quod repudiandae magni unde rerum? Magni, facere dolor! Saepe laborum temporibus inventore repellat? Animi, sit architecto cumque minima quia molestiae, sapiente at dolore explicabo officiis aliquam? Ea soluta sunt corporis eaque modi rem quas id natus nulla! Delectus quisquam atque earum. Enim, sint. Omnis maiores sed dicta labore dolore beatae a recusandae neque illo quas ea, atque harum eius ad odio itaque quidem illum repellendus fugit ex. Eum, quis. Optio obcaecati culpa corporis!
PRIORITY:3
TRANSP:TRANSPARENT
BEGIN:VALARM
TRIGGER:-PT5M
ACTION:DISPLAY
DESCRIPTION:Reminder
END:VALARM
END:VEVENT
END:VCALENDAR
