BEGIN:VCALENDAR
VERSION:2.0
CALSCALE:GREGORIAN
METHOD:PUBLISH
PRODID://A1HS//421476
BEGIN:VEVENT
DTSTAMP:20260420T092340
VTIMEZONE:America/New_York
DTSTART:20310225T050000Z
DTEND:20310225T050000Z
UID:421476
SUMMARY:Minima animi nisi magni velit assumenda
LOCATION:
DESCRIPTION:Minima animi nisi magni velit assumenda\n\n02/25/31 07:00 PM EST\n - 02/25/31 07:00 PM EST
X-ALT-DESC;FMTTYPE=text/html:Minima animi nisi magni velit assumenda<br /><br />02/25/31 07:00 PM EST - 02/25/31 07:00 PM EST
PRIORITY:3
TRANSP:TRANSPARENT
BEGIN:VALARM
TRIGGER:-PT5M
ACTION:DISPLAY
DESCRIPTION:Reminder
END:VALARM
END:VEVENT
END:VCALENDAR
