BEGIN:VCALENDAR
VERSION:2.0
CALSCALE:GREGORIAN
METHOD:PUBLISH
PRODID://A1HS//421477
BEGIN:VEVENT
DTSTAMP:20260421T145718
VTIMEZONE:America/New_York
DTSTART:20310311T040000Z
DTEND:20310311T040000Z
UID:421477
SUMMARY:Aliquid ratione impedit nihil ab fuga earum rem, provident quis quod eveniet blanditiis labore quibusdam praesentium
LOCATION:
DESCRIPTION:Aliquid ratione impedit nihil ab fuga earum rem, provident quis quod eveniet blanditiis labore quibusdam praesentium\n\n03/11/31 07:00 PM EST\n - 03/11/31 07:00 PM EST
X-ALT-DESC;FMTTYPE=text/html:Aliquid ratione impedit nihil ab fuga earum rem, provident quis quod eveniet blanditiis labore quibusdam praesentium<br /><br />03/11/31 07:00 PM EST - 03/11/31 07:00 PM EST
PRIORITY:3
TRANSP:TRANSPARENT
BEGIN:VALARM
TRIGGER:-PT5M
ACTION:DISPLAY
DESCRIPTION:Reminder
END:VALARM
END:VEVENT
END:VCALENDAR
