BEGIN:VCALENDAR
VERSION:2.0
CALSCALE:GREGORIAN
METHOD:PUBLISH
PRODID://A1HS//421479
BEGIN:VEVENT
DTSTAMP:20260421T095740
VTIMEZONE:America/New_York
DTSTART:20310419T040000Z
DTEND:20310419T040000Z
UID:421479
SUMMARY:Culpa bieque laborum temporibus
LOCATION:
DESCRIPTION:Culpa bieque laborum temporibus\n\n04/19/31 07:00 PM EST\n - 04/19/31 07:00 PM EST
X-ALT-DESC;FMTTYPE=text/html:Culpa bieque laborum temporibus<br /><br />04/19/31 07:00 PM EST - 04/19/31 07:00 PM EST
PRIORITY:3
TRANSP:TRANSPARENT
BEGIN:VALARM
TRIGGER:-PT5M
ACTION:DISPLAY
DESCRIPTION:Reminder
END:VALARM
END:VEVENT
END:VCALENDAR
