BEGIN:VCALENDAR
VERSION:2.0
CALSCALE:GREGORIAN
METHOD:PUBLISH
PRODID://A1WW//422953
BEGIN:VEVENT
DTSTAMP:20260419T201820
VTIMEZONE:America/New_York
DTSTART:20280808T060000Z
DTEND:20280808T081500Z
UID:422953
SUMMARY:Integer sed cursus nisi mauris hendrerit congue
LOCATION:
DESCRIPTION:Integer sed cursus nisi mauris hendrerit congue\n\n08/08/28 02:00 AM EST\n - 08/08/28 04:15 AM EST
X-ALT-DESC;FMTTYPE=text/html:Integer sed cursus nisi mauris hendrerit congue<br /><br />08/08/28 02:00 AM EST - 08/08/28 04:15 AM EST
PRIORITY:3
TRANSP:TRANSPARENT
BEGIN:VALARM
TRIGGER:-PT5M
ACTION:DISPLAY
DESCRIPTION:Reminder
END:VALARM
END:VEVENT
END:VCALENDAR
