BEGIN:VCALENDAR
VERSION:2.0
CALSCALE:GREGORIAN
METHOD:PUBLISH
PRODID://A1BE//425181
BEGIN:VEVENT
DTSTAMP:20260421T045555
VTIMEZONE:America/New_York
DTSTART:20280820T134500Z
DTEND:20280820T191500Z
UID:425181
SUMMARY:Nunc consequat lorem a est posuere faucibus. 
LOCATION:
DESCRIPTION:Nunc consequat lorem a est posuere faucibus. \n\n08/20/28 09:45 AM EST\n - 08/20/28 03:15 PM EST\Description:\nUt imperdiet mauris et dui egestas, sit amet hendrerit urna auctor. Nam volutpat mi elit. Integer sit amet neque interdum, tristique lacus sit amet, tincidunt nisl. Quisque ut luctus tellus. Morbi elementum accumsan diam, quis dapibus ante sagittis id. Ut facilisis ut turpis cursus mattis.
X-ALT-DESC;FMTTYPE=text/html:Nunc consequat lorem a est posuere faucibus. <br /><br />08/20/28 09:45 AM EST - 08/20/28 03:15 PM EST<br />Description:<br />Ut imperdiet mauris et dui egestas, sit amet hendrerit urna auctor. Nam volutpat mi elit. Integer sit amet neque interdum, tristique lacus sit amet, tincidunt nisl. Quisque ut luctus tellus. Morbi elementum accumsan diam, quis dapibus ante sagittis id. Ut facilisis ut turpis cursus mattis.
PRIORITY:3
TRANSP:TRANSPARENT
BEGIN:VALARM
TRIGGER:-PT5M
ACTION:DISPLAY
DESCRIPTION:Reminder
END:VALARM
END:VEVENT
END:VCALENDAR
