BEGIN:VCALENDAR
VERSION:2.0
CALSCALE:GREGORIAN
METHOD:PUBLISH
PRODID://A1BO//425758
BEGIN:VEVENT
DTSTAMP:20260421T063415
VTIMEZONE:America/New_York
DTSTART:20290610T040000Z
DTEND:20290610T041500Z
UID:425758
SUMMARY:Aprovident dolores similique culpa iure expedita temporibus
LOCATION:
DESCRIPTION:Aprovident dolores similique culpa iure expedita temporibus\n\n06/10/29 12:00 AM EST\n - 06/10/29 12:15 AM EST\Description:\nAcumerror ipsam ex doloribus corrupti quaerat praesentium atque iste distinctio minus eum sapiente enim beatae? In, natus. Officiis, fugiat asperiores libero hic
X-ALT-DESC;FMTTYPE=text/html:Aprovident dolores similique culpa iure expedita temporibus<br /><br />06/10/29 12:00 AM EST - 06/10/29 12:15 AM EST<br />Description:<br />Acumerror ipsam ex doloribus corrupti quaerat praesentium atque iste distinctio minus eum sapiente enim beatae? In, natus. Officiis, fugiat asperiores libero hic
PRIORITY:3
TRANSP:TRANSPARENT
BEGIN:VALARM
TRIGGER:-PT5M
ACTION:DISPLAY
DESCRIPTION:Reminder
END:VALARM
END:VEVENT
END:VCALENDAR
