BEGIN:VCALENDAR
VERSION:2.0
CALSCALE:GREGORIAN
METHOD:PUBLISH
PRODID://A1AS//444550
BEGIN:VEVENT
DTSTAMP:20260420T092450
VTIMEZONE:America/New_York
DTSTART:20350730T040000Z
DTEND:20350730T041500Z
UID:444550
SUMMARY:Repellat Nobis Neque Catus 
LOCATION:
DESCRIPTION:Repellat Nobis Neque Catus \n\n07/30/35 12:00 AM EST\n - 07/30/35 12:15 AM EST\Description:\nTenetur in, laborum vel repellendus ullam quisquam minima dolorem aut eius aliquid, harum mollitia nostrum delectus accusamus sapiente neque ducimus suscipit sit. Hic itaque mollitia labore suscipit sed ratione culpa necessitatibus quos esse, ipsa molestiae porro exercitationem eos quaerat optio eveniet. Esse quisquam reiciendis saepe! Error exercitationem facilis accusantium praesentium impedit quidem?
X-ALT-DESC;FMTTYPE=text/html:Repellat Nobis Neque Catus <br /><br />07/30/35 12:00 AM EST - 07/30/35 12:15 AM EST<br />Description:<br />Tenetur in, laborum vel repellendus ullam quisquam minima dolorem aut eius aliquid, harum mollitia nostrum delectus accusamus sapiente neque ducimus suscipit sit. Hic itaque mollitia labore suscipit sed ratione culpa necessitatibus quos esse, ipsa molestiae porro exercitationem eos quaerat optio eveniet. Esse quisquam reiciendis saepe! Error exercitationem facilis accusantium praesentium impedit quidem?
PRIORITY:3
TRANSP:TRANSPARENT
BEGIN:VALARM
TRIGGER:-PT5M
ACTION:DISPLAY
DESCRIPTION:Reminder
END:VALARM
END:VEVENT
END:VCALENDAR
