BEGIN:VCALENDAR
VERSION:2.0
CALSCALE:GREGORIAN
METHOD:PUBLISH
PRODID://A1BB//445146
BEGIN:VEVENT
DTSTAMP:20260422T192602
VTIMEZONE:America/New_York
DTSTART:20280813T061500Z
DTEND:20280813T083000Z
UID:445146
SUMMARY:Quisque Odio Pulvinar Eu Turpis Imperdiet
LOCATION:
DESCRIPTION:Quisque Odio Pulvinar Eu Turpis Imperdiet\n\n08/13/28 02:15 AM EST\n - 08/13/28 04:30 AM EST
X-ALT-DESC;FMTTYPE=text/html:Quisque Odio Pulvinar Eu Turpis Imperdiet<br /><br />08/13/28 02:15 AM EST - 08/13/28 04:30 AM EST
PRIORITY:3
TRANSP:TRANSPARENT
BEGIN:VALARM
TRIGGER:-PT5M
ACTION:DISPLAY
DESCRIPTION:Reminder
END:VALARM
END:VEVENT
END:VCALENDAR
