BEGIN:VCALENDAR
VERSION:2.0
CALSCALE:GREGORIAN
METHOD:PUBLISH
PRODID://A1BB//445147
BEGIN:VEVENT
DTSTAMP:20260419T194627
VTIMEZONE:America/New_York
DTSTART:20280907T070000Z
DTEND:20280907T083000Z
UID:445147
SUMMARY:Tincidunt Dignissim Erat Sapien Venenatis
LOCATION:
DESCRIPTION:Tincidunt Dignissim Erat Sapien Venenatis\n\n09/07/28 03:00 AM EST\n - 09/07/28 04:30 AM EST
X-ALT-DESC;FMTTYPE=text/html:Tincidunt Dignissim Erat Sapien Venenatis<br /><br />09/07/28 03:00 AM EST - 09/07/28 04:30 AM EST
PRIORITY:3
TRANSP:TRANSPARENT
BEGIN:VALARM
TRIGGER:-PT5M
ACTION:DISPLAY
DESCRIPTION:Reminder
END:VALARM
END:VEVENT
END:VCALENDAR
