BEGIN:VCALENDAR
VERSION:2.0
CALSCALE:GREGORIAN
METHOD:PUBLISH
PRODID://A1BB//445148
BEGIN:VEVENT
DTSTAMP:20260419T122849
VTIMEZONE:America/New_York
DTSTART:20281024T060000Z
DTEND:20281024T083000Z
UID:445148
SUMMARY:Egestas Lacinia Ante Sem Fringilla Congue Velit
LOCATION:
DESCRIPTION:Egestas Lacinia Ante Sem Fringilla Congue Velit\n\n10/24/28 02:00 AM EST\n - 10/24/28 04:30 AM EST
X-ALT-DESC;FMTTYPE=text/html:Egestas Lacinia Ante Sem Fringilla Congue Velit<br /><br />10/24/28 02:00 AM EST - 10/24/28 04:30 AM EST
PRIORITY:3
TRANSP:TRANSPARENT
BEGIN:VALARM
TRIGGER:-PT5M
ACTION:DISPLAY
DESCRIPTION:Reminder
END:VALARM
END:VEVENT
END:VCALENDAR
