BEGIN:VCALENDAR
VERSION:2.0
CALSCALE:GREGORIAN
METHOD:PUBLISH
PRODID://AAPF//448996
BEGIN:VEVENT
DTSTAMP:20260420T055308
VTIMEZONE:America/New_York
DTSTART:20250920T120000Z
DTEND:20250920T210000Z
UID:448996
SUMMARY:Northeast Farrier Supply Fall "Excellence in Education Clinic" (8 CE)
LOCATION:, 480 Hayden Station Road, Windsor, CT, 06095
DESCRIPTION:Northeast Farrier Supply Fall "Excellence in Education Clinic" (8 CE)\n\n09/20/25 08:00 AM EST\n - 09/20/25 05:00 PM EST\Description:\nAttendees will take away this education from this clinic - "Whole horse Function, Farrier/Vet/Owner Relationship, Shoeing with Efficiency"\nClinician Dusty Franklin CJF, ASF, AWCF\nSponsored by Farrier Education Fund Inc.   www.FarrierEducationFund.org and Northeast Farrier Supply\Location:\n\n480 Hayden Station Road\nWindsor, CT 06095
X-ALT-DESC;FMTTYPE=text/html:Northeast Farrier Supply Fall "Excellence in Education Clinic" (8 CE)<br /><br />09/20/25 08:00 AM EST - 09/20/25 05:00 PM EST<br />Description:<br />Attendees will take away this education from this clinic - &quot;Whole horse Function, Farrier/Vet/Owner Relationship, Shoeing with Efficiency&quot;<br />
Clinician&nbsp;Dusty Franklin CJF, ASF, AWCF<br />
Sponsored by&nbsp;Farrier Education Fund Inc. &nbsp; www.FarrierEducationFund.org and Northeast Farrier Supply<br />Location:<br /><br />480 Hayden Station Road<br />Windsor, CT 06095
PRIORITY:3
TRANSP:TRANSPARENT
BEGIN:VALARM
TRIGGER:-PT5M
ACTION:DISPLAY
DESCRIPTION:Reminder
END:VALARM
END:VEVENT
END:VCALENDAR
