BEGIN:VCALENDAR
VERSION:2.0
CALSCALE:GREGORIAN
METHOD:PUBLISH
PRODID://A1FT//454478
BEGIN:VEVENT
DTSTAMP:20260420T011656
VTIMEZONE:America/New_York
DTSTART:20280710T044500Z
DTEND:20280710T071500Z
UID:454478
SUMMARY:Ut Elementum Erat In Lectus Eleifend Sed Tristique
LOCATION:
DESCRIPTION:Ut Elementum Erat In Lectus Eleifend Sed Tristique\n\n07/10/28 12:45 AM EST\n - 07/10/28 03:15 AM EST\Description:\nPellentesque maximus suscipit posuere. Sed eu metus sodales, semper purus sed, consequat arcu. Quisque mattis, nisl in tincidunt dignissim, erat sapien venenatis turpis, pretium viverra leo turpis eu justo.
X-ALT-DESC;FMTTYPE=text/html:Ut Elementum Erat In Lectus Eleifend Sed Tristique<br /><br />07/10/28 12:45 AM EST - 07/10/28 03:15 AM EST<br />Description:<br />Pellentesque maximus suscipit posuere. Sed eu metus sodales, semper purus sed, consequat arcu. Quisque mattis, nisl in tincidunt dignissim, erat sapien venenatis turpis, pretium viverra leo turpis eu justo.
PRIORITY:3
TRANSP:TRANSPARENT
BEGIN:VALARM
TRIGGER:-PT5M
ACTION:DISPLAY
DESCRIPTION:Reminder
END:VALARM
END:VEVENT
END:VCALENDAR
