BEGIN:VCALENDAR
VERSION:2.0
CALSCALE:GREGORIAN
METHOD:PUBLISH
PRODID://A1BP//462072
BEGIN:VEVENT
DTSTAMP:20260420T072604
VTIMEZONE:America/New_York
DTSTART:20271217T081500Z
DTEND:20271217T093000Z
UID:462072
SUMMARY:Mauris Molestie Tellus In Luctus Purus Rutrum Pellentesque
LOCATION:
DESCRIPTION:Mauris Molestie Tellus In Luctus Purus Rutrum Pellentesque\n\n12/17/27 03:15 AM EST\n - 12/17/27 04:30 AM EST
X-ALT-DESC;FMTTYPE=text/html:Mauris Molestie Tellus In Luctus Purus Rutrum Pellentesque<br /><br />12/17/27 03:15 AM EST - 12/17/27 04:30 AM EST
PRIORITY:3
TRANSP:TRANSPARENT
BEGIN:VALARM
TRIGGER:-PT5M
ACTION:DISPLAY
DESCRIPTION:Reminder
END:VALARM
END:VEVENT
END:VCALENDAR
