BEGIN:VCALENDAR
VERSION:2.0
CALSCALE:GREGORIAN
METHOD:PUBLISH
PRODID://SBRA//464033
BEGIN:VEVENT
DTSTAMP:20260421T095710
VTIMEZONE:America/New_York
DTSTART:20251112T180000Z
DTEND:20251112T190000Z
UID:464033
SUMMARY:Webinar - Massachusetts Gaming Commission Investigation on Player Limitations
LOCATION:
DESCRIPTION:Webinar - Massachusetts Gaming Commission Investigation on Player Limitations\n\n11/12/25 01:00 PM EST\n - 11/12/25 02:00 PM EST\Description:\nWebinar - Massachusetts Gaming Commission Investigation on Player Limitations.  Presented by Carrie Torrissi, Chief of Sports Wagering Division.
X-ALT-DESC;FMTTYPE=text/html:Webinar - Massachusetts Gaming Commission Investigation on Player Limitations<br /><br />11/12/25 01:00 PM EST - 11/12/25 02:00 PM EST<br />Description:<br />Webinar - Massachusetts Gaming Commission Investigation on Player Limitations.&nbsp; Presented by Carrie Torrissi, Chief of Sports Wagering Division.
PRIORITY:3
TRANSP:TRANSPARENT
BEGIN:VALARM
TRIGGER:-PT5M
ACTION:DISPLAY
DESCRIPTION:Reminder
END:VALARM
END:VEVENT
END:VCALENDAR
