BEGIN:VCALENDAR
VERSION:2.0
CALSCALE:GREGORIAN
METHOD:PUBLISH
PRODID://A1TL//472958
BEGIN:VEVENT
DTSTAMP:20260421T073856
VTIMEZONE:America/New_York
DTSTART:20331015T040000Z
DTEND:20331015T041500Z
UID:472958
SUMMARY:Nunc Malesuada Orci Sit Amet Justo Mattis
LOCATION:
DESCRIPTION:Nunc Malesuada Orci Sit Amet Justo Mattis\n\n10/15/33 12:00 AM EST\n - 10/15/33 12:15 AM EST
X-ALT-DESC;FMTTYPE=text/html:Nunc Malesuada Orci Sit Amet Justo Mattis<br /><br />10/15/33 12:00 AM EST - 10/15/33 12:15 AM EST
PRIORITY:3
TRANSP:TRANSPARENT
BEGIN:VALARM
TRIGGER:-PT5M
ACTION:DISPLAY
DESCRIPTION:Reminder
END:VALARM
END:VEVENT
END:VCALENDAR
