BEGIN:VCALENDAR
VERSION:2.0
CALSCALE:GREGORIAN
METHOD:PUBLISH
PRODID://A1TL//472959
BEGIN:VEVENT
DTSTAMP:20260421T083124
VTIMEZONE:America/New_York
DTSTART:20340707T040000Z
DTEND:20340707T041500Z
UID:472959
SUMMARY:Aenean Vestibulum Diam Sed Tristique Vehicula Morbi Suscipit Mi
LOCATION:
DESCRIPTION:Aenean Vestibulum Diam Sed Tristique Vehicula Morbi Suscipit Mi\n\n07/07/34 12:00 AM EST\n - 07/07/34 12:15 AM EST
X-ALT-DESC;FMTTYPE=text/html:Aenean Vestibulum Diam Sed Tristique Vehicula Morbi Suscipit Mi<br /><br />07/07/34 12:00 AM EST - 07/07/34 12:15 AM EST
PRIORITY:3
TRANSP:TRANSPARENT
BEGIN:VALARM
TRIGGER:-PT5M
ACTION:DISPLAY
DESCRIPTION:Reminder
END:VALARM
END:VEVENT
END:VCALENDAR
