BEGIN:VCALENDAR
VERSION:2.0
CALSCALE:GREGORIAN
METHOD:PUBLISH
PRODID://ARCI//473699
BEGIN:VEVENT
DTSTAMP:20260422T122015
VTIMEZONE:America/New_York
DTSTART:20260520T170000Z
DTEND:20260520T200000Z
UID:473699
SUMMARY:New Jersey Racing Commission Meeting
LOCATION:multiple locations and virtual availability, 140 East Front St, TRENTON, Ne, 08608
DESCRIPTION:New Jersey Racing Commission Meeting\n\n05/20/26 01:00 PM EST\n - 05/20/26 04:00 PM EST\Description:\nMeeting of the New Jersey Racing Commission.\Details:\nLinks to each meeting will be posted on the New Jersey Racing Commission webpage detailing the start time and location of each meeting.\Location:\nmultiple locations and virtual availability\n140 East Front St\nTRENTON, Ne 08608
X-ALT-DESC;FMTTYPE=text/html:New Jersey Racing Commission Meeting<br /><br />05/20/26 01:00 PM EST - 05/20/26 04:00 PM EST<br />Description:<br />Meeting of the New Jersey Racing Commission.<br />Details:<br />Links to each meeting will be posted on the New Jersey Racing Commission webpage detailing the start time and location of each meeting.<br />Location:<br />multiple locations and virtual availability<br />140 East Front St<br />TRENTON, Ne 08608
PRIORITY:3
TRANSP:TRANSPARENT
BEGIN:VALARM
TRIGGER:-PT5M
ACTION:DISPLAY
DESCRIPTION:Reminder
END:VALARM
END:VEVENT
END:VCALENDAR
