BEGIN:VCALENDAR
VERSION:2.0
CALSCALE:GREGORIAN
METHOD:PUBLISH
PRODID://AAPF//483699
BEGIN:VEVENT
DTSTAMP:20260419T145314
VTIMEZONE:Australia/Sydney
DTSTART:20260418T220000Z
DTEND:20260423T070000Z
UID:483699
SUMMARY:ISIH Horse & Hoof 5 Day Clinic - VIC, Australia (40 CE)
LOCATION:Horse Shepherd Equine Sanctuary, Gordon, VIC, Australia
DESCRIPTION:ISIH Horse & Hoof 5 Day Clinic - VIC, Australia (40 CE)\n\n04/19/26 08:00 AM AEST\n - 04/23/26 05:00 PM AEST\Description:\nPresented by The International School of Integrative Hoofcare\n\nSee flyer for additional details\Location:\nHorse Shepherd Equine Sanctuary\nGordon, VIC, Australia\n,
X-ALT-DESC;FMTTYPE=text/html:ISIH Horse & Hoof 5 Day Clinic - VIC, Australia (40 CE)<br /><br />04/19/26 08:00 AM AEST - 04/23/26 05:00 PM AEST<br />Description:<br />Presented by&nbsp;The International School of Integrative Hoofcare<br />
<br />
See flyer for additional details<br />Location:<br />Horse Shepherd Equine Sanctuary<br />Gordon, VIC, Australia<br />,  
PRIORITY:3
TRANSP:TRANSPARENT
BEGIN:VALARM
TRIGGER:-PT5M
ACTION:DISPLAY
DESCRIPTION:Reminder
END:VALARM
END:VEVENT
END:VCALENDAR
