BEGIN:VCALENDAR
VERSION:2.0
CALSCALE:GREGORIAN
METHOD:PUBLISH
PRODID://A1PC//483802
BEGIN:VEVENT
DTSTAMP:20260421T095120
VTIMEZONE:America/New_York
DTSTART:20490115T070000Z
DTEND:20490115T141500Z
UID:483802
SUMMARY:Donec posuere vulputate arcu. Phasellus accumsan cursus velit.
LOCATION:
DESCRIPTION:Donec posuere vulputate arcu. Phasellus accumsan cursus velit.\n\n01/15/49 02:00 AM EST\n - 01/15/49 09:15 AM EST\Description:\nVestibulum ante ipsum primis in faucibus orci luctus et ultrices posuere cubilia Curae; Sed aliquam, nisi quis porttitor congue, elit erat euismod orci, ac placerat dolor lectus quis orci.\n
X-ALT-DESC;FMTTYPE=text/html:Donec posuere vulputate arcu. Phasellus accumsan cursus velit.<br /><br />01/15/49 02:00 AM EST - 01/15/49 09:15 AM EST<br />Description:<br /><p>Vestibulum ante ipsum primis in faucibus orci luctus et ultrices posuere cubilia Curae; Sed aliquam, nisi quis porttitor congue, elit erat euismod orci, ac placerat dolor lectus quis orci.</p>

PRIORITY:3
TRANSP:TRANSPARENT
BEGIN:VALARM
TRIGGER:-PT5M
ACTION:DISPLAY
DESCRIPTION:Reminder
END:VALARM
END:VEVENT
END:VCALENDAR
