BEGIN:VCALENDAR
VERSION:2.0
CALSCALE:GREGORIAN
METHOD:PUBLISH
PRODID://A1AE//484188
BEGIN:VEVENT
DTSTAMP:20260420T153824
VTIMEZONE:America/New_York
DTSTART:20310419T040000Z
DTEND:20310419T040000Z
UID:484188
SUMMARY:In bycl sequi optio praesentium
LOCATION:
DESCRIPTION:In bycl sequi optio praesentium\n\n04/19/31 07:00 PM EST\n - 04/19/31 07:00 PM EST\Description:\nAperferendis beatae rerum consequatur fugiat omnis minima vel excepturi assumenda officiis
X-ALT-DESC;FMTTYPE=text/html:In bycl sequi optio praesentium<br /><br />04/19/31 07:00 PM EST - 04/19/31 07:00 PM EST<br />Description:<br />Aperferendis beatae rerum consequatur fugiat omnis minima vel excepturi assumenda officiis
PRIORITY:3
TRANSP:TRANSPARENT
BEGIN:VALARM
TRIGGER:-PT5M
ACTION:DISPLAY
DESCRIPTION:Reminder
END:VALARM
END:VEVENT
END:VCALENDAR
