BEGIN:VCALENDAR
VERSION:2.0
CALSCALE:GREGORIAN
METHOD:PUBLISH
PRODID://A1AE//484190
BEGIN:VEVENT
DTSTAMP:20260422T093835
VTIMEZONE:America/New_York
DTSTART:20310525T040000Z
DTEND:20310525T040000Z
UID:484190
SUMMARY:Amet inventore voluptatum enim iusto itaque eos eum accusamus
LOCATION:
DESCRIPTION:Amet inventore voluptatum enim iusto itaque eos eum accusamus\n\n05/25/31 07:00 PM EST\n - 05/25/31 07:00 PM EST\Description:\nIste minima voluptate sit officiis assumenda mollitia nisi autem soluta officia. Nemo, ut! Neque minus nulla numquam fuga omnis fugiat reiciendis beatae iusto aliquid eveniet porro officia, veritatis obcaecati, nisi veniam, explicabo nesciunt! Quia maxime reprehenderit incidunt debitis suscipit itaque provident distinctio ducimus!
X-ALT-DESC;FMTTYPE=text/html:Amet inventore voluptatum enim iusto itaque eos eum accusamus<br /><br />05/25/31 07:00 PM EST - 05/25/31 07:00 PM EST<br />Description:<br />Iste minima voluptate sit officiis assumenda mollitia nisi autem soluta officia. Nemo, ut! Neque minus nulla numquam fuga omnis fugiat reiciendis beatae iusto aliquid eveniet porro officia, veritatis obcaecati, nisi veniam, explicabo nesciunt! Quia maxime reprehenderit incidunt debitis suscipit itaque provident distinctio ducimus!
PRIORITY:3
TRANSP:TRANSPARENT
BEGIN:VALARM
TRIGGER:-PT5M
ACTION:DISPLAY
DESCRIPTION:Reminder
END:VALARM
END:VEVENT
END:VCALENDAR
