BEGIN:VCALENDAR
VERSION:2.0
CALSCALE:GREGORIAN
METHOD:PUBLISH
PRODID://A1AE//484197
BEGIN:VEVENT
DTSTAMP:20260421T234017
VTIMEZONE:America/New_York
DTSTART:20310619T040000Z
DTEND:20310619T040000Z
UID:484197
SUMMARY:Fre architecto animi rerum dolor laudantium repellat
LOCATION:
DESCRIPTION:Fre architecto animi rerum dolor laudantium repellat\n\n06/19/31 07:00 PM EST\n - 06/19/31 07:00 PM EST\Description:\nFexcepturi officia est iusto commodi? Laudantium atque inventore exercitationem, labore rerum quidem doloremque quae cum aut doloribus? Quidem ducimus blanditiis minus distinctio. Minima, velit!
X-ALT-DESC;FMTTYPE=text/html:Fre architecto animi rerum dolor laudantium repellat<br /><br />06/19/31 07:00 PM EST - 06/19/31 07:00 PM EST<br />Description:<br />Fexcepturi officia est iusto commodi? Laudantium atque inventore exercitationem, labore rerum quidem doloremque quae cum aut doloribus? Quidem ducimus blanditiis minus distinctio. Minima, velit!
PRIORITY:3
TRANSP:TRANSPARENT
BEGIN:VALARM
TRIGGER:-PT5M
ACTION:DISPLAY
DESCRIPTION:Reminder
END:VALARM
END:VEVENT
END:VCALENDAR
