BEGIN:VCALENDAR
VERSION:2.0
CALSCALE:GREGORIAN
METHOD:PUBLISH
PRODID://HMCH//486664
BEGIN:VEVENT
DTSTAMP:20260421T012205
VTIMEZONE:America/Chicago
DTSTART:20260407T203000Z
DTEND:20260407T220000Z
UID:486664
SUMMARY:HMCHA April Board of Directors Meeting
LOCATION:AC Hotel Downtown Huntsville, 435 Williams Ave SW, Huntsville, AL, 35801
DESCRIPTION:HMCHA April Board of Directors Meeting\n\n04/07/26 03:30 PM CST\n - 04/07/26 05:00 PM CST\Description:\nBoard Meeting for Board Members only.\Location:\nAC Hotel Downtown Huntsville\n435 Williams Ave SW\nHuntsville, AL 35801
X-ALT-DESC;FMTTYPE=text/html:HMCHA April Board of Directors Meeting<br /><br />04/07/26 03:30 PM CST - 04/07/26 05:00 PM CST<br />Description:<br />Board Meeting for Board Members only.<br />Location:<br />AC Hotel Downtown Huntsville<br />435 Williams Ave SW<br />Huntsville, AL 35801
PRIORITY:3
TRANSP:TRANSPARENT
BEGIN:VALARM
TRIGGER:-PT5M
ACTION:DISPLAY
DESCRIPTION:Reminder
END:VALARM
END:VEVENT
END:VCALENDAR
