BEGIN:VCALENDAR
VERSION:2.0
CALSCALE:GREGORIAN
METHOD:PUBLISH
PRODID://AAPF//486684
BEGIN:VEVENT
DTSTAMP:20260420T130310
VTIMEZONE:America/New_York
DTSTART:20260426T120000Z
DTEND:20260428T210000Z
UID:486684
SUMMARY:Rood & Riddle International Podiatry Conference (24 CE)
LOCATION:Rood & Riddle Equine Hospital, 2150 Georgetown Road, Lexington, KY
DESCRIPTION:Rood & Riddle International Podiatry Conference (24 CE)\n\n04/26/26 08:00 AM EST\n - 04/28/26 05:00 PM EST\Description:\nThe Rood & Riddle International Podiatry Conference has both lectures and demonstrations.  It is open to farriers and veterinarians.  This course has been approved for 15 hours of CE RACE credit.\n\nRegistration is available at this link: https://pci.jotform.com/form/252595502598165\nRegistration fee is $985.00.\Location:\nRood & Riddle Equine Hospital\n2150 Georgetown Road\nLexington, KY
X-ALT-DESC;FMTTYPE=text/html:Rood & Riddle International Podiatry Conference (24 CE)<br /><br />04/26/26 08:00 AM EST - 04/28/26 05:00 PM EST<br />Description:<br />The Rood &amp; Riddle International Podiatry Conference has both lectures and demonstrations. &nbsp;It is open to farriers and veterinarians. &nbsp;This course has been approved for 15 hours of CE RACE credit.<br />
<br />
Registration is available at this link: https://pci.jotform.com/form/252595502598165<br />
Registration fee is $985.00.<br />Location:<br />Rood & Riddle Equine Hospital<br />2150 Georgetown Road<br />Lexington, KY 
PRIORITY:3
TRANSP:TRANSPARENT
BEGIN:VALARM
TRIGGER:-PT5M
ACTION:DISPLAY
DESCRIPTION:Reminder
END:VALARM
END:VEVENT
END:VCALENDAR
