BEGIN:VCALENDAR
VERSION:2.0
CALSCALE:GREGORIAN
METHOD:PUBLISH
PRODID://BGTB//488060
BEGIN:VEVENT
DTSTAMP:20260421T012235
VTIMEZONE:America/New_York
DTSTART:20260304T120000Z
DTEND:20260304T123000Z
UID:488060
SUMMARY:Engineering Committee Meeting
LOCATION:, FL
DESCRIPTION:Engineering Committee Meeting\n\n03/04/26 07:00 AM EST\n - 03/04/26 07:30 AM EST\Description:\nThe Engineering Committee will meet to discuss upcoming breakfast topics and details.
X-ALT-DESC;FMTTYPE=text/html:Engineering Committee Meeting<br /><br />03/04/26 07:00 AM EST - 03/04/26 07:30 AM EST<br />Description:<br />The Engineering Committee will meet to discuss upcoming breakfast topics and details.
PRIORITY:3
TRANSP:TRANSPARENT
BEGIN:VALARM
TRIGGER:-PT5M
ACTION:DISPLAY
DESCRIPTION:Reminder
END:VALARM
END:VEVENT
END:VCALENDAR
