BEGIN:VCALENDAR
VERSION:2.0
CALSCALE:GREGORIAN
METHOD:PUBLISH
PRODID://AAPF//488739
BEGIN:VEVENT
DTSTAMP:20260420T090003
VTIMEZONE:America/New_York
DTSTART:20260502T120000Z
DTEND:20260502T200000Z
UID:488739
SUMMARY:Dave and Jay Farley at Lester Yoders Horseshoeing Shop (7 CE)
LOCATION:Lester Yoders Shop, Shreve, OH
DESCRIPTION:Dave and Jay Farley at Lester Yoders Horseshoeing Shop (7 CE)\n\n05/02/26 08:00 AM EST\n - 05/02/26 04:00 PM EST\Description:\n8am to 4pm .  Dave and  Jay Farley will teach/lecture on efficiency at the rig and under the horse.  2 live horses will be shod.\Location:\nLester Yoders Shop\n\nShreve, OH
X-ALT-DESC;FMTTYPE=text/html:Dave and Jay Farley at Lester Yoders Horseshoeing Shop (7 CE)<br /><br />05/02/26 08:00 AM EST - 05/02/26 04:00 PM EST<br />Description:<br />8am to 4pm . &nbsp;Dave and &nbsp;Jay Farley will teach/lecture on efficiency at the rig and under the horse. &nbsp;2 live horses will be shod.<br />Location:<br />Lester Yoders Shop<br /><br />Shreve, OH 
PRIORITY:3
TRANSP:TRANSPARENT
BEGIN:VALARM
TRIGGER:-PT5M
ACTION:DISPLAY
DESCRIPTION:Reminder
END:VALARM
END:VEVENT
END:VCALENDAR
