BEGIN:VCALENDAR
VERSION:2.0
CALSCALE:GREGORIAN
METHOD:PUBLISH
PRODID://TPA//490171
BEGIN:VEVENT
DTSTAMP:20260420T025432
VTIMEZONE:America/New_York
DTSTART:20260305T220000Z
DTEND:20260305T233000Z
UID:490171
SUMMARY:Using the LifeCourse to Plan and Problem Solve Part 1 
LOCATION:
DESCRIPTION:Using the LifeCourse to Plan and Problem Solve Part 1 \n\n03/05/26 05:00 PM EST\n - 03/05/26 06:30 PM EST\Description:\nJoin the PA Family Network in this interactive workshop to: Identify service/supports so your loved one can live an Everyday Life; Learn to use the LifeCourse framework and tools to plan for your future.
X-ALT-DESC;FMTTYPE=text/html:Using the LifeCourse to Plan and Problem Solve Part 1 <br /><br />03/05/26 05:00 PM EST - 03/05/26 06:30 PM EST<br />Description:<br />Join the PA Family Network in this interactive workshop to: Identify service/supports so your loved one can live an Everyday Life; Learn to use the LifeCourse framework and tools to plan for your future.
PRIORITY:3
TRANSP:TRANSPARENT
BEGIN:VALARM
TRIGGER:-PT5M
ACTION:DISPLAY
DESCRIPTION:Reminder
END:VALARM
END:VEVENT
END:VCALENDAR
