BEGIN:VCALENDAR
VERSION:2.0
CALSCALE:GREGORIAN
METHOD:PUBLISH
PRODID://CRWA//490628
BEGIN:VEVENT
DTSTAMP:20260420T120738
VTIMEZONE:America/Denver
DTSTART:20260409T140000Z
DTEND:20260409T180000Z
UID:490628
SUMMARY:Water Filtration
LOCATION:
DESCRIPTION:Water Filtration\n\n04/09/26 08:00 AM MST\n - 04/09/26 12:00 PM MST\Description:\n\nThis course provides a technical deep dive into the physical and chemical processes used to treat surface and groundwater. Participants will learn the mechanics of particle removal, filtration technologies, and the kinetics of disinfection to ensure regulatory compliance and public safety.\nThe training units assigned for this course are:\n\n\n	\n		\n			Maximum TUs\n			0.4\n		\n		\n			Water treatment\n			0.4\n		\n		\n			Wastewater treatment\n			0\n		\n		\n			Industrial wastewater treatment\n			0\n		\n		\n			Water distribution\n			0.1\n		\n		\n			Wastewater Collection\n			0\n		\n	\n\n
X-ALT-DESC;FMTTYPE=text/html:Water Filtration<br /><br />04/09/26 08:00 AM MST - 04/09/26 12:00 PM MST<br />Description:<br /><pre id="txtdescription">
This course provides a technical deep dive into the physical and chemical processes used to treat surface and groundwater. Participants will learn the mechanics of particle removal, filtration technologies, and the kinetics of disinfection to ensure regulatory compliance and public safety.</pre>
The training units assigned for this course are:

<table border="0">
	<tbody>
		<tr>
			<td>Maximum TUs</td>
			<td>0.4</td>
		</tr>
		<tr>
			<td>Water treatment</td>
			<td>0.4</td>
		</tr>
		<tr>
			<td>Wastewater treatment</td>
			<td>0</td>
		</tr>
		<tr>
			<td>Industrial wastewater treatment</td>
			<td>0</td>
		</tr>
		<tr>
			<td>Water distribution</td>
			<td>0.1</td>
		</tr>
		<tr>
			<td>Wastewater Collection</td>
			<td>0</td>
		</tr>
	</tbody>
</table>

PRIORITY:3
TRANSP:TRANSPARENT
BEGIN:VALARM
TRIGGER:-PT5M
ACTION:DISPLAY
DESCRIPTION:Reminder
END:VALARM
END:VEVENT
END:VCALENDAR
