BEGIN:VCALENDAR
VERSION:2.0
CALSCALE:GREGORIAN
METHOD:PUBLISH
PRODID://OWEA//490974
BEGIN:VEVENT
DTSTAMP:20260421T233951
VTIMEZONE:America/New_York
DTSTART:20260318T123000Z
DTEND:20260318T181500Z
UID:490974
SUMMARY:Northwest March Section Meeting
LOCATION:Valleywood Golf Club, 13502 Airport Hwy, Swanton, OH, 43558
DESCRIPTION:Northwest March Section Meeting\n\n03/18/26 08:30 AM EST\n - 03/18/26 02:15 PM EST\Description:\n\n \Location:\nValleywood Golf Club\n13502 Airport Hwy\nSwanton, OH 43558
X-ALT-DESC;FMTTYPE=text/html:Northwest March Section Meeting<br /><br />03/18/26 08:30 AM EST - 03/18/26 02:15 PM EST<br />Description:<br /><br />
&nbsp;<br />Location:<br />Valleywood Golf Club<br />13502 Airport Hwy<br />Swanton, OH 43558
PRIORITY:3
TRANSP:TRANSPARENT
BEGIN:VALARM
TRIGGER:-PT5M
ACTION:DISPLAY
DESCRIPTION:Reminder
END:VALARM
END:VEVENT
END:VCALENDAR
