BEGIN:VCALENDAR
VERSION:2.0
CALSCALE:GREGORIAN
METHOD:PUBLISH
PRODID://CRWA//494190
BEGIN:VEVENT
DTSTAMP:20260420T103028
VTIMEZONE:America/Denver
DTSTART:20260604T140000Z
DTEND:20260604T180000Z
UID:494190
SUMMARY:Asset Management 101
LOCATION:
DESCRIPTION:Asset Management 101\n\n06/04/26 08:00 AM MST\n - 06/04/26 12:00 PM MST\Description:\n\nAn important goal for any water or wastewater system is to have a sustainable water infrastructure.  A key part of fulfilling that goal is to have a good asset management program.  This course will cover important aspects of such a program, including assembling a team and strategies, building and asset inventory, analyzing your assets for potential failure (and planning ahead for those failures) and ensuring compliance with the various government regulations that your system must follow.\n\n\nMax TUs:0\nWater Treatment:0\nWastewater Treatment:0\nIndustrial:0\nDistribution: 0\nCollection:0\nFex:.4\n\n\n
X-ALT-DESC;FMTTYPE=text/html:Asset Management 101<br /><br />06/04/26 08:00 AM MST - 06/04/26 12:00 PM MST<br />Description:<br /><pre id="txtdescription">
An important goal for any water or wastewater system is to have a sustainable water infrastructure.  A key part of fulfilling that goal is to have a good asset management program.  This course will cover important aspects of such a program, including assembling a team and strategies, building and asset inventory, analyzing your assets for potential failure (and planning ahead for those failures) and ensuring compliance with the various government regulations that your system must follow.</pre>

<pre>
Max TUs:0
Water Treatment:0
Wastewater Treatment:0
Industrial:0
Distribution: 0
Collection:0
Fex:.4

</pre>

PRIORITY:3
TRANSP:TRANSPARENT
BEGIN:VALARM
TRIGGER:-PT5M
ACTION:DISPLAY
DESCRIPTION:Reminder
END:VALARM
END:VEVENT
END:VCALENDAR
