BEGIN:VCALENDAR
VERSION:2.0
CALSCALE:GREGORIAN
METHOD:PUBLISH
PRODID://CRWA//494198
BEGIN:VEVENT
DTSTAMP:20260423T162220
VTIMEZONE:America/Denver
DTSTART:20260618T140000Z
DTEND:20260618T180000Z
UID:494198
SUMMARY:WASTEWATER TREATMENT PROCESSES Extended Version
LOCATION:
DESCRIPTION:WASTEWATER TREATMENT PROCESSES Extended Version\n\n06/18/26 08:00 AM MST\n - 06/18/26 12:00 PM MST\Description:\n\nCRWA (Colorado Rural Water Association) provides this training and guidance course for the development and certification of professional wastewater operators with a deeper look at each of the 5 most important processes of wastewater treatment, including: Preliminary, Primary, Secondary, Tertiary and Finishing Processes.\n\n\nMax TUs:0.4\nWater Treatment:0 \nWastewater Treatment:0.4\nIndustrial:0.4\nDistribution: 0\nCollection:0\n\n
X-ALT-DESC;FMTTYPE=text/html:WASTEWATER TREATMENT PROCESSES Extended Version<br /><br />06/18/26 08:00 AM MST - 06/18/26 12:00 PM MST<br />Description:<br /><pre id="txtdescription">
CRWA (Colorado Rural Water Association) provides this training and guidance course for the development and certification of professional wastewater operators with a deeper look at each of the 5 most important processes of wastewater treatment, including: Preliminary, Primary, Secondary, Tertiary and Finishing Processes.</pre>

<pre>
Max TUs:0.4
Water Treatment:0 
Wastewater Treatment:0.4
Industrial:0.4
Distribution: 0
Collection:0
</pre>

PRIORITY:3
TRANSP:TRANSPARENT
BEGIN:VALARM
TRIGGER:-PT5M
ACTION:DISPLAY
DESCRIPTION:Reminder
END:VALARM
END:VEVENT
END:VCALENDAR
