BEGIN:VCALENDAR
VERSION:2.0
CALSCALE:GREGORIAN
METHOD:PUBLISH
PRODID://LCRC//494605
BEGIN:VEVENT
DTSTAMP:20260420T092418
VTIMEZONE:America/Los_Angeles
DTSTART:20260603T010000Z
DTEND:20260602T070000Z
UID:494605
SUMMARY:Primary Watch Party
LOCATION:
DESCRIPTION:Primary Watch Party\n\n06/02/26 06:00 PM PST\n - 06/02/26 07:00 PM PST
X-ALT-DESC;FMTTYPE=text/html:Primary Watch Party<br /><br />06/02/26 06:00 PM PST - 06/02/26 07:00 PM PST
PRIORITY:3
TRANSP:TRANSPARENT
BEGIN:VALARM
TRIGGER:-PT5M
ACTION:DISPLAY
DESCRIPTION:Reminder
END:VALARM
END:VEVENT
END:VCALENDAR
