BEGIN:VCALENDAR
VERSION:2.0
CALSCALE:GREGORIAN
METHOD:PUBLISH
PRODID://BGTB//499360
BEGIN:VEVENT
DTSTAMP:20260419T223936
VTIMEZONE:America/New_York
DTSTART:20260513T130000Z
DTEND:20260513T143000Z
UID:499360
SUMMARY:Leadership Development & Academy Program
LOCATION:MetWest, 4010 W. Boy Scout Blvd., Suite 360, Tampa, FL, 33607
DESCRIPTION:Leadership Development & Academy Program\n\n05/13/26 09:00 AM EST\n - 05/13/26 10:30 AM EST\Description:\nThis meeting will feature a speaker - Claudia Chan\Location:\nMetWest\n4010 W. Boy Scout Blvd., Suite 360\nTampa, FL 33607
X-ALT-DESC;FMTTYPE=text/html:Leadership Development & Academy Program<br /><br />05/13/26 09:00 AM EST - 05/13/26 10:30 AM EST<br />Description:<br /><strong><span style="font-family:arial,helvetica,sans-serif"><span style="font-size:16px">This meeting will feature a speaker - Claudia Chan</span></span></strong><br />Location:<br />MetWest<br />4010 W. Boy Scout Blvd., Suite 360<br />Tampa, FL 33607
PRIORITY:3
TRANSP:TRANSPARENT
BEGIN:VALARM
TRIGGER:-PT5M
ACTION:DISPLAY
DESCRIPTION:Reminder
END:VALARM
END:VEVENT
END:VCALENDAR
