BEGIN:VCALENDAR
VERSION:2.0
CALSCALE:GREGORIAN
METHOD:PUBLISH
PRODID://VGCS//504041
BEGIN:VEVENT
DTSTAMP:20260419T112552
VTIMEZONE:America/New_York
DTSTART:20260312T040000Z
DTEND:20260312T170000Z
UID:504041
SUMMARY:TTA Event: Veteran Roundtable Discussion & Course Tour
LOCATION:Cavalier Golf & Yacht Club, 1052 Cardinal Rd., Virginia Beach, VA, 23451
DESCRIPTION:TTA Event: Veteran Roundtable Discussion & Course Tour\n\n03/12/26 12:00 AM EST\n - 03/12/26 01:00 PM EST\Details:\nJoin the Tidewater Turfgrass Association as we welcome five veteran superintendents for a roundtable discussion. Attendees can expect stories, best practices, and more! Come ready to learn from some of the best in the industry and be ready with questions. Following the discussion, we’ll take to the course for a tour and some continued networking.\n\nThe Event:\nðŸ“…Date: Thursday March 12\nðŸ• Time: 12:00-1:00 p.m., followed by a course tour\nðŸ“ Location: Cavalier Golf & Yacht Club, 1052 Cardinal Rd, Virginia Beach, VA 23451\nðŸ• Food: Pizza and beverages will be provided\n\nYour Attendance:\nPlease RSVP to Ben Pritchet, TTA President, at Ben.Pritchett@invitedclubs.com or 757-758-0292.\n \n\nThank You to our Sponsors:\n \n\Location:\nCavalier Golf & Yacht Club\n1052 Cardinal Rd.\nVirginia Beach, VA 23451
X-ALT-DESC;FMTTYPE=text/html:TTA Event: Veteran Roundtable Discussion & Course Tour<br /><br />03/12/26 12:00 AM EST - 03/12/26 01:00 PM EST<br />Details:<br /><p>Join the Tidewater Turfgrass Association&nbsp;as we welcome five veteran superintendents for a roundtable discussion. Attendees can expect stories, best practices, and more! Come ready to learn from some of the best in the industry and be ready with questions. Following the discussion, we&rsquo;ll take to the course for a tour and some continued networking.</p>

<p><strong>The Event:</strong><br />
<strong>ðŸ“…</strong>Date:&nbsp;Thursday March 12<br />
ðŸ• Time:&nbsp;12:00-1:00 p.m., followed by a course tour<br />
ðŸ“ Location:&nbsp;Cavalier Golf &amp; Yacht Club, 1052 Cardinal Rd, Virginia Beach, VA 23451<br />
ðŸ• Food:&nbsp;Pizza and beverages will be provided<br />
<br />
<strong>Your Attendance:</strong><br />
Please&nbsp;RSVP to Ben Pritchet, TTA President, at&nbsp;<a href="mailto:Ben.Pritchett@invitedclubs.com">Ben.Pritchett@invitedclubs.com</a>&nbsp;or 757-758-0292.<br />
&nbsp;</p>

<p align="center"><span style="color:#006400"><strong>Thank You to our Sponsors:</strong></span><br />
&nbsp;</p>
<br />Location:<br />Cavalier Golf & Yacht Club<br />1052 Cardinal Rd.<br />Virginia Beach, VA 23451
PRIORITY:3
TRANSP:TRANSPARENT
BEGIN:VALARM
TRIGGER:-PT5M
ACTION:DISPLAY
DESCRIPTION:Reminder
END:VALARM
END:VEVENT
END:VCALENDAR
