BEGIN:VCALENDAR
VERSION:2.0
CALSCALE:GREGORIAN
METHOD:PUBLISH
PRODID://TPA//504129
BEGIN:VEVENT
DTSTAMP:20260421T094000
VTIMEZONE:America/New_York
DTSTART:20260424T150000Z
DTEND:20260424T160000Z
UID:504129
SUMMARY:April Employment Virtual Office Hour (VOH): Using Wrap Around Services to Support Competitive Integrated Employment
LOCATION:
DESCRIPTION:April Employment Virtual Office Hour (VOH): Using Wrap Around Services to Support Competitive Integrated Employment\n\n04/24/26 11:00 AM EST\n - 04/24/26 12:00 PM EST\Description:\nIn addition to The Office of Developmental Programs' (ODP’s) services which directly support employment goals, other services may be utilized to support people in obtaining and maintaining employment. These services, sometimes called “wrap around” services, may be available even if someone:\n•  receives employment services funded by ODP; \n•  has employment services funded by another source, like The Office of Vocational Rehabilitation (OVR), or \n•  maintains their employment without direct employment supports or services. \n \n\nJoin the ODP staff to review the most commonly used “wrap around” services and learn how they can be successfully incorporated into Individual Support Plans to further support employment goals. \n\n \n\nAudience:\n\nAll Interested Stakeholders\n
X-ALT-DESC;FMTTYPE=text/html:April Employment Virtual Office Hour (VOH): Using Wrap Around Services to Support Competitive Integrated Employment<br /><br />04/24/26 11:00 AM EST - 04/24/26 12:00 PM EST<br />Description:<br /><p>In addition to The Office of Developmental Programs' (ODP&rsquo;s) services which directly support employment goals, other services may be utilized to support people in obtaining and maintaining employment. These services, sometimes called &ldquo;wrap around&rdquo; services, may be available even if someone:<br />
&bull;&emsp;&emsp;receives employment services funded by ODP;&nbsp;<br />
&bull;&emsp;&emsp;has employment services funded by another source, like The Office of Vocational Rehabilitation (OVR), or&nbsp;<br />
&bull;&emsp;&emsp;maintains their employment without direct employment supports or services.&nbsp;<br />
&nbsp;</p>

<p>Join the ODP staff to review the most commonly used &ldquo;wrap around&rdquo; services and learn how they can be successfully incorporated into Individual Support Plans to further support employment goals.&nbsp;</p>

<p>&nbsp;</p>

<p>Audience:</p>

<p>All Interested Stakeholders</p>

PRIORITY:3
TRANSP:TRANSPARENT
BEGIN:VALARM
TRIGGER:-PT5M
ACTION:DISPLAY
DESCRIPTION:Reminder
END:VALARM
END:VEVENT
END:VCALENDAR
