BEGIN:VCALENDAR
VERSION:2.0
CALSCALE:GREGORIAN
METHOD:PUBLISH
PRODID://CRWA//511174
BEGIN:VEVENT
DTSTAMP:20260424T235434
VTIMEZONE:America/Denver
DTSTART:20260709T140000Z
DTEND:20260709T160000Z
UID:511174
SUMMARY:Laboratory Calculations
LOCATION:
DESCRIPTION:Laboratory Calculations\n\n07/09/26 08:00 AM MST\n - 07/09/26 10:00 AM MST\Description:\n\nThe objective of this course is to equip operators with the skills and confidence needed to accurately perform essential laboratory calculations for daily operations and certification exams. It develops proficiency in key lab math concepts, including chemical relationships, water quality indices, and analytical calculations, through clear instruction and practical problem-solving.\n\n\nMax TUs:0.1\nWater Treatment:0.1\nWastewater Treatment:0.1\nIndustrial:0.1\nDistribution: 0.1\nCollection:0.1\n\n
X-ALT-DESC;FMTTYPE=text/html:Laboratory Calculations<br /><br />07/09/26 08:00 AM MST - 07/09/26 10:00 AM MST<br />Description:<br /><pre id="txtSpecificLearningObject_0">
The objective of this course is to equip operators with the skills and confidence needed to accurately perform essential laboratory calculations for daily operations and certification exams. It develops proficiency in key lab math concepts, including chemical relationships, water quality indices, and analytical calculations, through clear instruction and practical problem-solving.</pre>

<pre>
Max TUs:0.1
Water Treatment:0.1
Wastewater Treatment:0.1
Industrial:0.1
Distribution: 0.1
Collection:0.1
</pre>

PRIORITY:3
TRANSP:TRANSPARENT
BEGIN:VALARM
TRIGGER:-PT5M
ACTION:DISPLAY
DESCRIPTION:Reminder
END:VALARM
END:VEVENT
END:VCALENDAR
