BEGIN:VCALENDAR
VERSION:2.0
CALSCALE:GREGORIAN
METHOD:PUBLISH
PRODID://AAFS//515845
BEGIN:VEVENT
DTSTAMP:20260421T095640
VTIMEZONE:America/New_York
DTSTART:20260430T180000Z
DTEND:20260430T190000Z
UID:515845
SUMMARY:CDC COCA Call - Rabies is Still Here: Epidemiology, Outbreaks, and Costs of Prevention in the United States
LOCATION:
DESCRIPTION:CDC COCA Call - Rabies is Still Here: Epidemiology, Outbreaks, and Costs of Prevention in the United States\n\n04/30/26 02:00 PM EST\n - 04/30/26 03:00 PM EST\Description:\nDuring this COCA Call, presenters will discuss the current rabies landscape in the United States and CDC resources to help clinicians and health departments with risk assessments. Presenters will also highlight animal-related costs and impacts from rabies and how risk assessments can help avoid financial damage from costs associated with rabies exposures.\n\nRegistration not required. Visit this site for zoom link: https://www.cdc.gov/coca/hcp/trainings/rabies-is-still-here-epidemiology-outbreaks-and-costs-of-prevention-in-the-united-states.html\n\nCE available for multiple professions through CDC Train
X-ALT-DESC;FMTTYPE=text/html:CDC COCA Call - Rabies is Still Here: Epidemiology, Outbreaks, and Costs of Prevention in the United States<br /><br />04/30/26 02:00 PM EST - 04/30/26 03:00 PM EST<br />Description:<br />During this COCA Call, presenters will discuss the current rabies landscape in the United States and CDC resources to help clinicians and health departments with risk assessments. Presenters will also highlight animal-related costs and impacts from rabies and how risk assessments can help avoid financial damage from costs associated with rabies exposures.<br />
<br />
Registration not required. Visit this site for zoom link:&nbsp;https://www.cdc.gov/coca/hcp/trainings/rabies-is-still-here-epidemiology-outbreaks-and-costs-of-prevention-in-the-united-states.html<br />
<br />
CE available for multiple professions through CDC Train
PRIORITY:3
TRANSP:TRANSPARENT
BEGIN:VALARM
TRIGGER:-PT5M
ACTION:DISPLAY
DESCRIPTION:Reminder
END:VALARM
END:VEVENT
END:VCALENDAR
