BEGIN:VCALENDAR
VERSION:2.0
CALSCALE:GREGORIAN
METHOD:PUBLISH
PRODID://BGTB//515906
BEGIN:VEVENT
DTSTAMP:20260422T034355
VTIMEZONE:America/New_York
DTSTART:20260514T133000Z
DTEND:20260514T143000Z
UID:515906
SUMMARY:New Member Orientation
LOCATION:MetWest, 4010 W. Boy Scout Blvd., Suite 360, Tampa, FL, 33607
DESCRIPTION:New Member Orientation\n\n05/14/26 09:30 AM EST\n - 05/14/26 10:30 AM EST\Description:\nPlease plan to attend the next New Member Orientation at MetWest.\Location:\nMetWest\n4010 W. Boy Scout Blvd., Suite 360\nTampa, FL 33607
X-ALT-DESC;FMTTYPE=text/html:New Member Orientation<br /><br />05/14/26 09:30 AM EST - 05/14/26 10:30 AM EST<br />Description:<br />Please plan to attend the next New Member Orientation at MetWest.<br />Location:<br />MetWest<br />4010 W. Boy Scout Blvd., Suite 360<br />Tampa, FL 33607
PRIORITY:3
TRANSP:TRANSPARENT
BEGIN:VALARM
TRIGGER:-PT5M
ACTION:DISPLAY
DESCRIPTION:Reminder
END:VALARM
END:VEVENT
END:VCALENDAR
