BEGIN:VCALENDAR
VERSION:2.0
CALSCALE:GREGORIAN
METHOD:PUBLISH
PRODID://POPF//516654
BEGIN:VEVENT
DTSTAMP:20260422T222557
VTIMEZONE:America/New_York
DTSTART:20260514T220000Z
DTEND:20260515T000000Z
UID:516654
SUMMARY:2026 Scholarship Reception
LOCATION:Detroit Peoples Food Co-op, 8321 WoodWard Ave, Detroit, MI, 48202
DESCRIPTION:2026 Scholarship Reception\n\n05/14/26 06:00 PM EST\n - 05/14/26 08:00 PM EST\Location:\nDetroit Peoples Food Co-op\n8321 WoodWard Ave\nDetroit, MI 48202
X-ALT-DESC;FMTTYPE=text/html:2026 Scholarship Reception<br /><br />05/14/26 06:00 PM EST - 05/14/26 08:00 PM EST<br />Location:<br />Detroit Peoples Food Co-op<br />8321 WoodWard Ave<br />Detroit, MI 48202
PRIORITY:3
TRANSP:TRANSPARENT
BEGIN:VALARM
TRIGGER:-PT5M
ACTION:DISPLAY
DESCRIPTION:Reminder
END:VALARM
END:VEVENT
END:VCALENDAR
