BEGIN:VCALENDAR
VERSION:2.0
CALSCALE:GREGORIAN
METHOD:PUBLISH
PRODID://AAFS//516672
BEGIN:VEVENT
DTSTAMP:20260423T024750
VTIMEZONE:America/Los_Angeles
DTSTART:20260430T010000Z
DTEND:20260430T020000Z
UID:516672
SUMMARY:Epizootic Hemorrhagic Disease Virus (EHDV) in the PNW
LOCATION:
DESCRIPTION:Epizootic Hemorrhagic Disease Virus (EHDV) in the PNW\n\n04/29/26 06:00 PM PST\n - 04/29/26 07:00 PM PST\Description:\nThis webinar will present the current data collected at WADDL related to EHDV infections in wild cervids followed by abortions, neonatal deaths, and neurologically inappropriate bovine calves in Washington and Idaho. We will cover reported clinical signs, gross and microscopic lesions, and ongoing work in serotyping and serology.
X-ALT-DESC;FMTTYPE=text/html:Epizootic Hemorrhagic Disease Virus (EHDV) in the PNW<br /><br />04/29/26 06:00 PM PST - 04/29/26 07:00 PM PST<br />Description:<br />This webinar will present the current data collected at WADDL related to EHDV infections in wild cervids followed by abortions, neonatal deaths, and neurologically inappropriate bovine calves in Washington and Idaho. We will cover reported clinical signs, gross and microscopic lesions, and ongoing work in serotyping and serology.
PRIORITY:3
TRANSP:TRANSPARENT
BEGIN:VALARM
TRIGGER:-PT5M
ACTION:DISPLAY
DESCRIPTION:Reminder
END:VALARM
END:VEVENT
END:VCALENDAR
