BEGIN:VCALENDAR
VERSION:2.0
CALSCALE:GREGORIAN
METHOD:PUBLISH
PRODID://IMPT//516966
BEGIN:VEVENT
DTSTAMP:20260423T152641
VTIMEZONE:America/Chicago
DTSTART:20260616T223000Z
DTEND:20260617T003000Z
UID:516966
SUMMARY:New Member Orientation & Social
LOCATION:
DESCRIPTION:New Member Orientation & Social\n\n06/16/26 05:30 PM CST\n - 06/16/26 07:30 PM CST\Description:\nSave the date!  Event details coming soon. 
X-ALT-DESC;FMTTYPE=text/html:New Member Orientation & Social<br /><br />06/16/26 05:30 PM CST - 06/16/26 07:30 PM CST<br />Description:<br />Save the date!&nbsp; Event details coming soon.&nbsp;
PRIORITY:3
TRANSP:TRANSPARENT
BEGIN:VALARM
TRIGGER:-PT5M
ACTION:DISPLAY
DESCRIPTION:Reminder
END:VALARM
END:VEVENT
END:VCALENDAR
